BEGIN:VCALENDAR
VERSION:2.0
PRODID:-//Chadds Ford Barn Shops - ECPv6.15.18//NONSGML v1.0//EN
CALSCALE:GREGORIAN
METHOD:PUBLISH
X-ORIGINAL-URL:https://barnshops.com
X-WR-CALDESC:Events for Chadds Ford Barn Shops
REFRESH-INTERVAL;VALUE=DURATION:PT1H
X-Robots-Tag:noindex
X-PUBLISHED-TTL:PT1H
BEGIN:VTIMEZONE
TZID:UTC
BEGIN:STANDARD
TZOFFSETFROM:+0000
TZOFFSETTO:+0000
TZNAME:UTC
DTSTART:20250101T000000
END:STANDARD
END:VTIMEZONE
BEGIN:VEVENT
DTSTART;TZID=UTC:20260214T090000
DTEND;TZID=UTC:20260214T170000
DTSTAMP:20260422T070742
CREATED:20250119T020615Z
LAST-MODIFIED:20260406T204550Z
UID:39580-1771059600-1771088400@barnshops.com
SUMMARY:Valentine's Day Artisan Showcase
DESCRIPTION:SATURDAY\, February 14h from 9 to 5 pm. COME VISIT US at Barn Shops for a wonderful day of activities and crafts. It’s going to be a creative and fun 2026. Community First!
URL:https://barnshops.com/event/valentines-day-artisan-showcase/
LOCATION:Chadds Ford Barn Shops\, 1609 Baltimore Pike\, Chadds Ford\, PA\, United States
ATTACH;FMTTYPE=image/jpeg:https://barnshops.com/wp-content/uploads/2025/01/628100023_1396926275797210_8963920988884969916_n.jpg
END:VEVENT
END:VCALENDAR