BEGIN:VCALENDAR
VERSION:2.0
PRODID:-//Chadds Ford Barn Shops - ECPv6.15.18//NONSGML v1.0//EN
CALSCALE:GREGORIAN
METHOD:PUBLISH
X-WR-CALNAME:Chadds Ford Barn Shops
X-ORIGINAL-URL:https://barnshops.com
X-WR-CALDESC:Events for Chadds Ford Barn Shops
REFRESH-INTERVAL;VALUE=DURATION:PT1H
X-Robots-Tag:noindex
X-PUBLISHED-TTL:PT1H
BEGIN:VTIMEZONE
TZID:America/New_York
BEGIN:DAYLIGHT
TZOFFSETFROM:-0500
TZOFFSETTO:-0400
TZNAME:EDT
DTSTART:20250309T070000
END:DAYLIGHT
BEGIN:STANDARD
TZOFFSETFROM:-0400
TZOFFSETTO:-0500
TZNAME:EST
DTSTART:20251102T060000
END:STANDARD
BEGIN:DAYLIGHT
TZOFFSETFROM:-0500
TZOFFSETTO:-0400
TZNAME:EDT
DTSTART:20260308T070000
END:DAYLIGHT
BEGIN:STANDARD
TZOFFSETFROM:-0400
TZOFFSETTO:-0500
TZNAME:EST
DTSTART:20261101T060000
END:STANDARD
BEGIN:DAYLIGHT
TZOFFSETFROM:-0500
TZOFFSETTO:-0400
TZNAME:EDT
DTSTART:20270314T070000
END:DAYLIGHT
BEGIN:STANDARD
TZOFFSETFROM:-0400
TZOFFSETTO:-0500
TZNAME:EST
DTSTART:20271107T060000
END:STANDARD
END:VTIMEZONE
BEGIN:VTIMEZONE
TZID:UTC
BEGIN:STANDARD
TZOFFSETFROM:+0000
TZOFFSETTO:+0000
TZNAME:UTC
DTSTART:20250101T000000
END:STANDARD
END:VTIMEZONE
BEGIN:VEVENT
DTSTART;TZID=America/New_York:20260407T180000
DTEND;TZID=America/New_York:20260407T210000
DTSTAMP:20260420T094216
CREATED:20260407T175858Z
LAST-MODIFIED:20260407T175858Z
UID:50381-1775584800-1775595600@barnshops.com
SUMMARY:Craft Night
DESCRIPTION:Looking for a way to break out of your weekday routine and finally finish that project you started months ago? Whether you’re a master knitter\, a scrapbooker\, or someone who just likes to doodle\, we have the perfect space for you. \nJoin us at OsoSweet for our monthly Crafternoon! It’s a dedicated time to gather\, create\, and connect with fellow makers in the community. \nThe Details\n\n\nWhen: Every first Tuesday of the month \n\n\nTime: 6:00 pm – 9:00 pm \n\n\nWhere: The Annex at OsoSweet (1609 Baltimore Pike) \n\n\nWhat to Bring: This is a BYO Craft event! Bring whatever project you’re currently working on. \n\n\nWhy You Should Come\nSometimes the hardest part of being creative is finding the time and space to actually do it. The Annex provides a relaxed\, inspiring atmosphere where you can focus on your craft without the distractions of home. \nPlus\, you won’t have to craft on an empty stomach. We have snacks and drinks available for purchase\, so you can stay fueled and hydrated while you work. \nJoin the Community\nThere’s something special about the energy of a room full of people creating together. No registration is required—just grab your supplies and meet us there. We can’t wait to see what you’re working on!
URL:https://barnshops.com/event/craft-night/
LOCATION:OsoSweet Bakery Cafe\, 1609 Baltimore Pike\, Chadds Ford\, PA\, 19317\, United States
ATTACH;FMTTYPE=image/jpeg:https://barnshops.com/wp-content/uploads/2026/04/craft-night_1507bb91-edce-4702-a96d-65a8826317f3.jpeg
END:VEVENT
BEGIN:VEVENT
DTSTART;VALUE=DATE:20260314
DTEND;VALUE=DATE:20260315
DTSTAMP:20260420T094216
CREATED:20260320T004528Z
LAST-MODIFIED:20260406T204947Z
UID:50330-1773446400-1773532799@barnshops.com
SUMMARY:Sweet Treats & Local Beats: Celebrate Pi Day at Chadds Ford!
DESCRIPTION:Forget your high school geometry—it’s time for the kind of “Pi” you can actually sink your teeth into. This **March 14th**\, the **Chadds Ford Village Barn Shops** are transforming into a haven for makers\, bakers\, and community spirit. Whether you’re a math enthusiast or just someone who follows their nose to the nearest bakery\, this is one Saturday you won’t want to miss. \nFrom **9 AM to 5 PM**\, rain or shine\, we’re serving up a full day of local shopping\, hands-on crafting\, and—of course—plenty of pie. \n— \n### Shop Small in Suite 400\nLooking for something unique? We’ve gathered a curated selection of local artisans and wellness experts all in one spot. It’s the perfect chance to support small businesses while finding your next favorite treasure. \n**Featured Vendors Include:**\n* **Crimson Craft Jewelry** & **Rhys Owens** (Stunning handmade finds)\n* **Little Thistle Farms** & **Beth Paulser**\n* **Buddha Belly Wellness** & **Emotional Mammal**\n* **The Moonlight Medic**\n* **Lunatika + Punk Floyd Art** \n— \n### Get Creative at the Maker Space\nFeeling crafty? Our Maker Space is open for business with no reservations required! Grab a friend and try your hand at something new: \n* **10 AM – 12 PM:** **Coptic Stitch Sketchbooks** with *Emotional Mammal* ($35)\n* **1 PM – 4 PM:** **Fairy Garden Terrariums** with *The Moonlight Medic* ($40)\n* **All Day:** Need to unwind? Treat yourself to a **Chair Massage Session** by *Optimal Massage*. \n— \n### The Main Event: The Pie Eating Contest\nIt wouldn’t be Pi Day without a little friendly (and delicious) competition. At exactly **3:14 PM**\, the forks come out for our annual **Pie Eating Contest**! \n* **Cost:** Free to enter!\n* **Sign-up:** Register by 2 PM on the day of the event.\n* **The Stakes:** The top 3 finishers will walk away with a **Special Prize**. \n— \n### Event Details At-A-Glance\n* **Date:** March 14 (3.14)\n* **Time:** 9 AM – 5 PM\n* **Location:** Chadds Ford Village Barn Shops\n* **Admission:** Free to attend! \nWhether you’re here for the handmade jewelry\, the fairy gardens\, or the glory of the pie-eating arena\, we can’t wait to see you there. \n**Would you like me to draft a series of social media posts to help promote this event on Instagram and Facebook?**
URL:https://barnshops.com/event/sweet-treats-local-beats-celebrate-pi-day-at-chadds-ford/
LOCATION:Chadds Ford Barn Shops\, 1609 Baltimore Pike\, Chadds Ford\, PA\, United States
ATTACH;FMTTYPE=image/jpeg:https://barnshops.com/wp-content/uploads/2026/03/pie-day.jpg
END:VEVENT
BEGIN:VEVENT
DTSTART;TZID=UTC:20260214T090000
DTEND;TZID=UTC:20260214T170000
DTSTAMP:20260420T094216
CREATED:20250119T020615Z
LAST-MODIFIED:20260406T204550Z
UID:39580-1771059600-1771088400@barnshops.com
SUMMARY:Valentine's Day Artisan Showcase
DESCRIPTION:SATURDAY\, February 14h from 9 to 5 pm. COME VISIT US at Barn Shops for a wonderful day of activities and crafts. It’s going to be a creative and fun 2026. Community First!
URL:https://barnshops.com/event/valentines-day-artisan-showcase/
LOCATION:Chadds Ford Barn Shops\, 1609 Baltimore Pike\, Chadds Ford\, PA\, United States
ATTACH;FMTTYPE=image/jpeg:https://barnshops.com/wp-content/uploads/2025/01/628100023_1396926275797210_8963920988884969916_n.jpg
END:VEVENT
END:VCALENDAR